BEGIN:VCALENDAR
VERSION:2.0
PRODID:-//Trustees Week - ECPv6.15.17.1//NONSGML v1.0//EN
CALSCALE:GREGORIAN
METHOD:PUBLISH
X-ORIGINAL-URL:https://trusteesweek.org
X-WR-CALDESC:Events for Trustees Week
REFRESH-INTERVAL;VALUE=DURATION:PT1H
X-Robots-Tag:noindex
X-PUBLISHED-TTL:PT1H
BEGIN:VTIMEZONE
TZID:UTC
BEGIN:STANDARD
TZOFFSETFROM:+0000
TZOFFSETTO:+0000
TZNAME:UTC
DTSTART:20240101T000000
END:STANDARD
END:VTIMEZONE
BEGIN:VEVENT
DTSTART;TZID=UTC:20251107T120000
DTEND;TZID=UTC:20251107T143000
DTSTAMP:20260423T061439
CREATED:20251009T114041Z
LAST-MODIFIED:20251009T115546Z
UID:6776-1762516800-1762525800@trusteesweek.org
SUMMARY:Your Charity’s Success Starts Here: Be Part of Trustees’ Week 2025 with HCR Law in Central England
DESCRIPTION:An in person seminar\, hosted by HCR Law on 7 November 2025\, to celebrate the vital role of charity trustees. The event offers legal updates\, guest insights from Cynthia Spencer Hospice\, Metro Bank and Hawsons and networking opportunities — empowering trustees to stay informed\, connected\, and inspired. \nBook here: https://www.hcrlaw.com/event/trustees-week-central-england/
URL:https://trusteesweek.org/event/your-charitys-success-starts-here-be-part-of-trustees-week-2025-with-hcr-law-in-central-england/
LOCATION:HCR Law\, Lancaster House\, Nunn Mills Road\, Northampton\, NN1 5GE
CATEGORIES:Aspiring trustees,Being a trustee: introducing the basics,Charity staff / volunteers,Data/data protection/fraud and cyber,Finance,Good governance,Newly appointed trustees,The board: membership and ways of working,Trustees
END:VEVENT
BEGIN:VEVENT
DTSTART;TZID=UTC:20251104T150000
DTEND;TZID=UTC:20251104T160000
DTSTAMP:20260423T061439
CREATED:20250811T133208Z
LAST-MODIFIED:20250827T152913Z
UID:5339-1762268400-1762272000@trusteesweek.org
SUMMARY:An update on Companies House changes | Diweddariad ar newidiadau Tŷ'r Cwmnïau
DESCRIPTION:In tackling economic crime and supporting economic growth\, with a focus on identity verification requirements. \nMewn trechu troseddau economaidd a chefnogi twf economaidd. Gan ganolbwyntio’n benodol ar ofynion dilysu pwy ydych. \nBook here/ Archebwch yma: https://lu.ma/460k7yml \nPlease do not sign up for these events if you are not involved in the voluntary sector in Wales. This events is for trustees or staff from organisations based in Wales.
URL:https://trusteesweek.org/event/an-update-on-companies-house-changes-diweddariad-ar-newidiadau-tyr-cwmniau/
CATEGORIES:Aspiring trustees,Charity staff / volunteers,Data/data protection/fraud and cyber,Finance,Good governance,Newly appointed trustees,Trustees
END:VEVENT
BEGIN:VEVENT
DTSTART;TZID=UTC:20251103T150000
DTEND;TZID=UTC:20251103T160000
DTSTAMP:20260423T061439
CREATED:20250811T132712Z
LAST-MODIFIED:20250827T153320Z
UID:5335-1762182000-1762185600@trusteesweek.org
SUMMARY:A guide to recent changes in data protection law | Arweiniad i newidiadau diweddar mewn cyfraith diogelu data
DESCRIPTION:ICO will guide you through some of the recent changes to data protection law brought about by the Data (Use and Access) Act 2025. \nBydd ICO yn eich tywys drwy rai o’r newidiadau diweddar mewn cyfraith diogelu data sydd wedi dod yn sgil Deddf Data (Defnydd a Mynediad) 2025. \nBook here / Archebwch yma: https://lu.ma/jgtv9cch \nPlease do not sign up for these events if you are not involved in the voluntary sector in Wales. This events is for trustees or staff from organisations based in Wales.
URL:https://trusteesweek.org/event/a-guide-to-recent-changes-in-data-protection-law-arweiniad-i-newidiadau-diweddar-mewn-cyfraith-diogelu-data/
CATEGORIES:Aspiring trustees,Charity staff / volunteers,Data/data protection/fraud and cyber,Good governance,Newly appointed trustees,Trustees
END:VEVENT
BEGIN:VEVENT
DTSTART;TZID=UTC:20251103T123000
DTEND;TZID=UTC:20251103T133000
DTSTAMP:20260423T061439
CREATED:20250722T093934Z
LAST-MODIFIED:20250827T153458Z
UID:4810-1762173000-1762176600@trusteesweek.org
SUMMARY:Crisis? Sorted! A trustee’s toolkit for tough times
DESCRIPTION:Trustees share their experiences navigating crisis – what worked\, what didn’t\, and what they wish they’d known. \nBook here: https://www.eventbrite.co.uk/e/crisis-sorted-a-trustees-toolkit-for-tough-times-tickets-1435417505399?aff=oddtdtcreator
URL:https://trusteesweek.org/event/crisis-sorted-a-trustees-toolkit-for-tough-times/
CATEGORIES:Data/data protection/fraud and cyber,Embracing change,Finance,Fundraising,Good governance,The board: membership and ways of working,Trustees
END:VEVENT
END:VCALENDAR